BEGIN:VCALENDAR
VERSION:2.0
PRODID:-//Paws for Putnam - ECPv6.15.20//NONSGML v1.0//EN
CALSCALE:GREGORIAN
METHOD:PUBLISH
X-ORIGINAL-URL:https://pawsforputnam.org
X-WR-CALDESC:Events for Paws for Putnam
REFRESH-INTERVAL;VALUE=DURATION:PT1H
X-Robots-Tag:noindex
X-PUBLISHED-TTL:PT1H
BEGIN:VTIMEZONE
TZID:UTC
BEGIN:STANDARD
TZOFFSETFROM:+0000
TZOFFSETTO:+0000
TZNAME:UTC
DTSTART:20240101T000000
END:STANDARD
END:VTIMEZONE
BEGIN:VEVENT
DTSTART;TZID=UTC:20250302T110000
DTEND;TZID=UTC:20250302T150000
DTSTAMP:20260424T064953
CREATED:20250226T191112Z
LAST-MODIFIED:20250226T191112Z
UID:4169-1740913200-1740927600@pawsforputnam.org
SUMMARY:Adoption Event
DESCRIPTION:
URL:https://pawsforputnam.org/event/adoption-event-11/
LOCATION:Pet Supermarket – Fruit Cove\, 465 State Rd 13 N\, Fruit Cove\, 32259\, United States
CATEGORIES:Adoption Events
ATTACH;FMTTYPE=image/png:https://pawsforputnam.org/wp-content/uploads/2025/02/3.2.25.png
END:VEVENT
BEGIN:VEVENT
DTSTART;TZID=UTC:20250309T110000
DTEND;TZID=UTC:20250309T160000
DTSTAMP:20260424T064953
CREATED:20250124T053656Z
LAST-MODIFIED:20250124T055051Z
UID:4155-1741518000-1741536000@pawsforputnam.org
SUMMARY:Brunch & Barks Adoption Event
DESCRIPTION:Mark your calendars for the Brunch & Barks Event – Dog Adoption Event\, hosted on March 9th at Gemma Fish + Oyster! \n\n\nThere will be adoptable shelter dogs and local vendors at Gemma Fish + Oyster during brunch! Whether you want to adopt or get some puppy love before brunch\, it’s guaranteed to be a great time!
URL:https://pawsforputnam.org/event/brunch-barks-adoption-event/
LOCATION:Gemma Fish + Oyster\, 2039 Hendricks Ave.\, Jacksonville\, FL\, 32207\, United States
CATEGORIES:Special Events
ATTACH;FMTTYPE=image/png:https://pawsforputnam.org/wp-content/uploads/2025/01/Brunch-Barks-Gemma.png
END:VEVENT
END:VCALENDAR