BEGIN:VCALENDAR
VERSION:2.0
PRODID:-//Paws for Putnam - ECPv6.15.20//NONSGML v1.0//EN
CALSCALE:GREGORIAN
METHOD:PUBLISH
X-WR-CALNAME:Paws for Putnam
X-ORIGINAL-URL:https://pawsforputnam.org
X-WR-CALDESC:Events for Paws for Putnam
REFRESH-INTERVAL;VALUE=DURATION:PT1H
X-Robots-Tag:noindex
X-PUBLISHED-TTL:PT1H
BEGIN:VTIMEZONE
TZID:America/Detroit
BEGIN:DAYLIGHT
TZOFFSETFROM:-0500
TZOFFSETTO:-0400
TZNAME:EDT
DTSTART:20240310T070000
END:DAYLIGHT
BEGIN:STANDARD
TZOFFSETFROM:-0400
TZOFFSETTO:-0500
TZNAME:EST
DTSTART:20241103T060000
END:STANDARD
BEGIN:DAYLIGHT
TZOFFSETFROM:-0500
TZOFFSETTO:-0400
TZNAME:EDT
DTSTART:20250309T070000
END:DAYLIGHT
BEGIN:STANDARD
TZOFFSETFROM:-0400
TZOFFSETTO:-0500
TZNAME:EST
DTSTART:20251102T060000
END:STANDARD
BEGIN:DAYLIGHT
TZOFFSETFROM:-0500
TZOFFSETTO:-0400
TZNAME:EDT
DTSTART:20260308T070000
END:DAYLIGHT
BEGIN:STANDARD
TZOFFSETFROM:-0400
TZOFFSETTO:-0500
TZNAME:EST
DTSTART:20261101T060000
END:STANDARD
END:VTIMEZONE
BEGIN:VTIMEZONE
TZID:UTC
BEGIN:STANDARD
TZOFFSETFROM:+0000
TZOFFSETTO:+0000
TZNAME:UTC
DTSTART:20230101T000000
END:STANDARD
END:VTIMEZONE
BEGIN:VEVENT
DTSTART;TZID=America/Detroit:20251102T110000
DTEND;TZID=America/Detroit:20251102T150000
DTSTAMP:20260423T195454
CREATED:20251029T172323Z
LAST-MODIFIED:20251029T172323Z
UID:4207-1762081200-1762095600@pawsforputnam.org
SUMMARY:Adoption Event 11-2-25
DESCRIPTION:Lots of amazing dogs are available for adoption\, so these are just a few of the many we can bring on Sundays!
URL:https://pawsforputnam.org/event/adoption-event-11-2-25/
LOCATION:Pet Supermarket – Fruit Cove\, 465 State Rd 13 N\, Fruit Cove\, 32259\, United States
CATEGORIES:Adoption Events
ATTACH;FMTTYPE=image/jpeg:https://pawsforputnam.org/wp-content/uploads/2025/10/nov-event.jpg
END:VEVENT
BEGIN:VEVENT
DTSTART;TZID=America/Detroit:20251026T110000
DTEND;TZID=America/Detroit:20251026T150000
DTSTAMP:20260423T195454
CREATED:20251022T185255Z
LAST-MODIFIED:20251022T185255Z
UID:4202-1761476400-1761490800@pawsforputnam.org
SUMMARY:Adoption Event 10-26-25
DESCRIPTION:We have the STARS of this weekend’s adoption event!! \nWhich one do you want to adopt and bring smiles to your day… everyday?
URL:https://pawsforputnam.org/event/adoption-event-10-26-25/
LOCATION:Pet Supermarket – Southside\, 9041 Southside Blvd Ste 132\, Jacksonville\, FL\, 32256\, United States
END:VEVENT
BEGIN:VEVENT
DTSTART;TZID=America/Detroit:20251005T110000
DTEND;TZID=America/Detroit:20251005T150000
DTSTAMP:20260423T195454
CREATED:20251003T224457Z
LAST-MODIFIED:20251003T224457Z
UID:4196-1759662000-1759676400@pawsforputnam.org
SUMMARY:Adoption Event 10-5-25
DESCRIPTION:We have the STARS of this weekend’s adoption event!! \nWhich one do you want to adopt and bring smiles to your day… everyday? \nWe will be at the Pet Supermarket in Fruit Cove (San Jose / Racetrack Rd) from 11-3!
URL:https://pawsforputnam.org/event/adoption-event-10-5-25/
LOCATION:Pet Supermarket – Fruit Cove\, 465 State Rd 13 N\, Fruit Cove\, 32259\, United States
CATEGORIES:Adoption Events
ATTACH;FMTTYPE=image/jpeg:https://pawsforputnam.org/wp-content/uploads/2025/10/oct-5-2025-event.jpg
END:VEVENT
BEGIN:VEVENT
DTSTART;TZID=America/Detroit:20250913T120000
DTEND;TZID=America/Detroit:20250913T180000
DTSTAMP:20260423T195454
CREATED:20250819T183953Z
LAST-MODIFIED:20250909T154644Z
UID:4186-1757764800-1757786400@pawsforputnam.org
SUMMARY:Creeks Football Homecoming
DESCRIPTION:
URL:https://pawsforputnam.org/event/creeks-football-homecoming/
LOCATION:Creeks Football Homecoming\, 3060 Race Track Rd\, Fruit Cove\, FL\, 32259\, United States
CATEGORIES:Special Events
ATTACH;FMTTYPE=image/jpeg:https://pawsforputnam.org/wp-content/uploads/2025/08/PFP-Special-Event.jpg
END:VEVENT
BEGIN:VEVENT
DTSTART;TZID=America/Detroit:20250907T110000
DTEND;TZID=America/Detroit:20250907T150000
DTSTAMP:20260423T195454
CREATED:20250819T183420Z
LAST-MODIFIED:20250905T223537Z
UID:4184-1757242800-1757257200@pawsforputnam.org
SUMMARY:Adoption Event
DESCRIPTION:
URL:https://pawsforputnam.org/event/adoption-event-13/
LOCATION:Pet Supermarket – Fruit Cove\, 465 State Rd 13 N\, Fruit Cove\, 32259\, United States
CATEGORIES:Adoption Events
ATTACH;FMTTYPE=image/jpeg:https://pawsforputnam.org/wp-content/uploads/2025/08/pfp.jpg
END:VEVENT
BEGIN:VEVENT
DTSTART;TZID=America/Detroit:20250824T110000
DTEND;TZID=America/Detroit:20250824T150000
DTSTAMP:20260423T195454
CREATED:20250819T183106Z
LAST-MODIFIED:20250822T214506Z
UID:4182-1756033200-1756047600@pawsforputnam.org
SUMMARY:Adoption Event
DESCRIPTION:
URL:https://pawsforputnam.org/event/adoption-event-12/
LOCATION:Pet Supermarket – Southside\, 9041 Southside Blvd Ste 132\, Jacksonville\, FL\, 32256\, United States
CATEGORIES:Adoption Events
ATTACH;FMTTYPE=image/jpeg:https://pawsforputnam.org/wp-content/uploads/2025/08/pfp-pups.jpg
END:VEVENT
BEGIN:VEVENT
DTSTART;TZID=UTC:20250309T110000
DTEND;TZID=UTC:20250309T160000
DTSTAMP:20260423T195454
CREATED:20250124T053656Z
LAST-MODIFIED:20250124T055051Z
UID:4155-1741518000-1741536000@pawsforputnam.org
SUMMARY:Brunch & Barks Adoption Event
DESCRIPTION:Mark your calendars for the Brunch & Barks Event – Dog Adoption Event\, hosted on March 9th at Gemma Fish + Oyster! \n\n\nThere will be adoptable shelter dogs and local vendors at Gemma Fish + Oyster during brunch! Whether you want to adopt or get some puppy love before brunch\, it’s guaranteed to be a great time!
URL:https://pawsforputnam.org/event/brunch-barks-adoption-event/
LOCATION:Gemma Fish + Oyster\, 2039 Hendricks Ave.\, Jacksonville\, FL\, 32207\, United States
CATEGORIES:Special Events
ATTACH;FMTTYPE=image/png:https://pawsforputnam.org/wp-content/uploads/2025/01/Brunch-Barks-Gemma.png
END:VEVENT
BEGIN:VEVENT
DTSTART;TZID=UTC:20250302T110000
DTEND;TZID=UTC:20250302T150000
DTSTAMP:20260423T195454
CREATED:20250226T191112Z
LAST-MODIFIED:20250226T191112Z
UID:4169-1740913200-1740927600@pawsforputnam.org
SUMMARY:Adoption Event
DESCRIPTION:
URL:https://pawsforputnam.org/event/adoption-event-11/
LOCATION:Pet Supermarket – Fruit Cove\, 465 State Rd 13 N\, Fruit Cove\, 32259\, United States
CATEGORIES:Adoption Events
ATTACH;FMTTYPE=image/png:https://pawsforputnam.org/wp-content/uploads/2025/02/3.2.25.png
END:VEVENT
BEGIN:VEVENT
DTSTART;TZID=UTC:20250223T110000
DTEND;TZID=UTC:20250223T150000
DTSTAMP:20260423T195454
CREATED:20250124T054938Z
LAST-MODIFIED:20250124T054938Z
UID:4165-1740308400-1740322800@pawsforputnam.org
SUMMARY:Adoption Event
DESCRIPTION:
URL:https://pawsforputnam.org/event/adoption-event-10/
LOCATION:Pet Supermarket – Southside\, 9041 Southside Blvd Ste 132\, Jacksonville\, FL\, 32256\, United States
ATTACH;FMTTYPE=image/png:https://pawsforputnam.org/wp-content/uploads/2025/01/2.23.25.png
END:VEVENT
BEGIN:VEVENT
DTSTART;TZID=UTC:20250209T110000
DTEND;TZID=UTC:20250209T150000
DTSTAMP:20260423T195454
CREATED:20250124T054822Z
LAST-MODIFIED:20250124T054822Z
UID:4162-1739098800-1739113200@pawsforputnam.org
SUMMARY:Adoption Event
DESCRIPTION:
URL:https://pawsforputnam.org/event/adoption-event-9/
LOCATION:Pet Supermarket – Southside\, 9041 Southside Blvd Ste 132\, Jacksonville\, FL\, 32256\, United States
CATEGORIES:Adoption Events
ATTACH;FMTTYPE=image/png:https://pawsforputnam.org/wp-content/uploads/2025/01/2.9.25.png
END:VEVENT
BEGIN:VEVENT
DTSTART;TZID=UTC:20250202T110000
DTEND;TZID=UTC:20250202T150000
DTSTAMP:20260423T195454
CREATED:20250124T054707Z
LAST-MODIFIED:20250124T054707Z
UID:4159-1738494000-1738508400@pawsforputnam.org
SUMMARY:Adoption Event
DESCRIPTION:
URL:https://pawsforputnam.org/event/adoption-event-8/
LOCATION:Pet Supermarket – Fruit Cove\, 465 State Rd 13 N\, Fruit Cove\, 32259\, United States
CATEGORIES:Adoption Events
ATTACH;FMTTYPE=image/png:https://pawsforputnam.org/wp-content/uploads/2025/01/2.2.25.png
END:VEVENT
BEGIN:VEVENT
DTSTART;TZID=UTC:20250126T110000
DTEND;TZID=UTC:20250126T150000
DTSTAMP:20260423T195454
CREATED:20250101T184602Z
LAST-MODIFIED:20250101T184602Z
UID:4151-1737889200-1737903600@pawsforputnam.org
SUMMARY:Adoption Event
DESCRIPTION:
URL:https://pawsforputnam.org/event/adoption-event-7/
LOCATION:Pet Supermarket – Southside\, 9041 Southside Blvd Ste 132\, Jacksonville\, FL\, 32256\, United States
CATEGORIES:Adoption Events
ATTACH;FMTTYPE=image/png:https://pawsforputnam.org/wp-content/uploads/2025/01/1.26.25.png
END:VEVENT
BEGIN:VEVENT
DTSTART;TZID=UTC:20250112T110000
DTEND;TZID=UTC:20250112T150000
DTSTAMP:20260423T195454
CREATED:20250101T184324Z
LAST-MODIFIED:20250101T184324Z
UID:4148-1736679600-1736694000@pawsforputnam.org
SUMMARY:Adoption Event
DESCRIPTION:
URL:https://pawsforputnam.org/event/southside-adoption-event/
LOCATION:Pet Supermarket – Southside\, 9041 Southside Blvd Ste 132\, Jacksonville\, FL\, 32256\, United States
CATEGORIES:Adoption Events
ATTACH;FMTTYPE=image/png:https://pawsforputnam.org/wp-content/uploads/2025/01/1.12.25.png
END:VEVENT
BEGIN:VEVENT
DTSTART;TZID=UTC:20241222T110000
DTEND;TZID=UTC:20241222T150000
DTSTAMP:20260423T195454
CREATED:20241208T203713Z
LAST-MODIFIED:20241208T203713Z
UID:4143-1734865200-1734879600@pawsforputnam.org
SUMMARY:Adoption Event
DESCRIPTION:
URL:https://pawsforputnam.org/event/adoption-event-6/
LOCATION:Pet Supermarket – Southside\, 9041 Southside Blvd Ste 132\, Jacksonville\, FL\, 32256\, United States
ATTACH;FMTTYPE=image/png:https://pawsforputnam.org/wp-content/uploads/2024/12/12.22.24.png
END:VEVENT
BEGIN:VEVENT
DTSTART;TZID=UTC:20241208T110000
DTEND;TZID=UTC:20241208T150000
DTSTAMP:20260423T195454
CREATED:20241202T183119Z
LAST-MODIFIED:20241202T183119Z
UID:4140-1733655600-1733670000@pawsforputnam.org
SUMMARY:Adoption Event
DESCRIPTION:
URL:https://pawsforputnam.org/event/adoption-event-5/
LOCATION:Pet Supermarket – Southside\, 9041 Southside Blvd Ste 132\, Jacksonville\, FL\, 32256\, United States
CATEGORIES:Adoption Events
ATTACH;FMTTYPE=image/png:https://pawsforputnam.org/wp-content/uploads/2024/12/12.08.24.png
END:VEVENT
BEGIN:VEVENT
DTSTART;TZID=UTC:20241127T150000
DTEND;TZID=UTC:20241127T180000
DTSTAMP:20260423T195454
CREATED:20241018T024520Z
LAST-MODIFIED:20241018T025049Z
UID:4068-1732719600-1732730400@pawsforputnam.org
SUMMARY:Paws & Gratitude: A Thanksgiving Feast for Shelter Dogs
DESCRIPTION:Join us in spreading love and warmth this holiday season! On Wednesday\, November 27th\, at 3 PM\, we’ll be serving a special Thanksgiving meal to the shelter dogs at Putnam County Animal Services. We invite volunteers to sign up and help make this day extra special for the dogs. If you’re unable to attend but would like to contribute\, donations are greatly appreciated. Together\, let’s give these deserving dogs a feast filled with care and gratitude.
URL:https://pawsforputnam.org/event/paws-gratitude-a-thanksgiving-feast-for-shelter-dogs/
LOCATION:Putnam County Animal Shelter\, 174 County Landfill Rd\, Palatka\, FL\, 32177\, United States
CATEGORIES:Special Events
ATTACH;FMTTYPE=image/png:https://pawsforputnam.org/wp-content/uploads/2024/10/Paws-for-Putnam-Thanksgiving-Feast.png
END:VEVENT
BEGIN:VEVENT
DTSTART;TZID=UTC:20241124T110000
DTEND;TZID=UTC:20241124T150000
DTSTAMP:20260423T195454
CREATED:20241118T211554Z
LAST-MODIFIED:20241118T211554Z
UID:4136-1732446000-1732460400@pawsforputnam.org
SUMMARY:Adoption Event
DESCRIPTION:
URL:https://pawsforputnam.org/event/adoption-event-4/
LOCATION:Pet Supermarket – Southside\, 9041 Southside Blvd Ste 132\, Jacksonville\, FL\, 32256\, United States
CATEGORIES:Adoption Events
ATTACH;FMTTYPE=image/png:https://pawsforputnam.org/wp-content/uploads/2024/11/11.24.24.png
END:VEVENT
BEGIN:VEVENT
DTSTART;TZID=UTC:20241116T110000
DTEND;TZID=UTC:20241116T140000
DTSTAMP:20260423T195454
CREATED:20241111T195229Z
LAST-MODIFIED:20241111T195229Z
UID:4130-1731754800-1731765600@pawsforputnam.org
SUMMARY:First Coast Vendor Village
DESCRIPTION:We are excited to join Vendor Village Saturday November 16th with adoptable dogs from Putnam County Animal Services!  All of the dogs are spayed/neutered and up to date on vaccines. Help us clear the shelter and share this with your friends and family!
URL:https://pawsforputnam.org/event/first-coast-vendor-village/
LOCATION:Windward Ranch\, 103 Anguilla Blvd\, St. Augustine\, 32092\, United States
CATEGORIES:Special Events
ATTACH;FMTTYPE=image/png:https://pawsforputnam.org/wp-content/uploads/2024/11/Windward-Ranch.png
END:VEVENT
BEGIN:VEVENT
DTSTART;TZID=UTC:20241110T110000
DTEND;TZID=UTC:20241110T150000
DTSTAMP:20260423T195454
CREATED:20241108T204127Z
LAST-MODIFIED:20241108T204127Z
UID:4127-1731236400-1731250800@pawsforputnam.org
SUMMARY:Adoption Event
DESCRIPTION:
URL:https://pawsforputnam.org/event/adoption-event-3/
LOCATION:Pet Supermarket – Southside\, 9041 Southside Blvd Ste 132\, Jacksonville\, FL\, 32256\, United States
CATEGORIES:Adoption Events
ATTACH;FMTTYPE=image/png:https://pawsforputnam.org/wp-content/uploads/2024/11/11.10.24.png
END:VEVENT
BEGIN:VEVENT
DTSTART;TZID=UTC:20241102T110000
DTEND;TZID=UTC:20241102T150000
DTSTAMP:20260423T195454
CREATED:20241028T164530Z
LAST-MODIFIED:20241028T164530Z
UID:4121-1730545200-1730559600@pawsforputnam.org
SUMMARY:Adoption Event
DESCRIPTION:
URL:https://pawsforputnam.org/event/adoption-event-2/
LOCATION:Pet Supermarket – Fruit Cove\, 465 State Rd 13 N\, Fruit Cove\, 32259\, United States
CATEGORIES:Adoption Events
ATTACH;FMTTYPE=image/png:https://pawsforputnam.org/wp-content/uploads/2024/10/Adoption-Event-112.png
END:VEVENT
BEGIN:VEVENT
DTSTART;TZID=UTC:20241027T110000
DTEND;TZID=UTC:20241027T150000
DTSTAMP:20260423T195454
CREATED:20241018T024209Z
LAST-MODIFIED:20241018T024209Z
UID:4064-1730026800-1730041200@pawsforputnam.org
SUMMARY:Adoption Event
DESCRIPTION:
URL:https://pawsforputnam.org/event/adoption-event/
LOCATION:Pet Supermarket – Southside\, 9041 Southside Blvd Ste 132\, Jacksonville\, FL\, 32256\, United States
CATEGORIES:Adoption Events
ATTACH;FMTTYPE=image/png:https://pawsforputnam.org/wp-content/uploads/2024/10/Adoption-Event-1027.png
END:VEVENT
END:VCALENDAR