BEGIN:VCALENDAR
VERSION:2.0
PRODID:-//Paws for Putnam - ECPv6.15.20//NONSGML v1.0//EN
CALSCALE:GREGORIAN
METHOD:PUBLISH
X-WR-CALNAME:Paws for Putnam
X-ORIGINAL-URL:https://pawsforputnam.org
X-WR-CALDESC:Events for Paws for Putnam
REFRESH-INTERVAL;VALUE=DURATION:PT1H
X-Robots-Tag:noindex
X-PUBLISHED-TTL:PT1H
BEGIN:VTIMEZONE
TZID:UTC
BEGIN:STANDARD
TZOFFSETFROM:+0000
TZOFFSETTO:+0000
TZNAME:UTC
DTSTART:20230101T000000
END:STANDARD
END:VTIMEZONE
BEGIN:VEVENT
DTSTART;TZID=UTC:20241208T110000
DTEND;TZID=UTC:20241208T150000
DTSTAMP:20260424T125957
CREATED:20241202T183119Z
LAST-MODIFIED:20241202T183119Z
UID:4140-1733655600-1733670000@pawsforputnam.org
SUMMARY:Adoption Event
DESCRIPTION:
URL:https://pawsforputnam.org/event/adoption-event-5/
LOCATION:Pet Supermarket – Southside\, 9041 Southside Blvd Ste 132\, Jacksonville\, FL\, 32256\, United States
CATEGORIES:Adoption Events
ATTACH;FMTTYPE=image/png:https://pawsforputnam.org/wp-content/uploads/2024/12/12.08.24.png
END:VEVENT
END:VCALENDAR